BEGIN:VCALENDAR
VERSION:2.0
PRODID:-//First Baptist Church Brentwood - ECPv6.15.20//NONSGML v1.0//EN
CALSCALE:GREGORIAN
METHOD:PUBLISH
X-ORIGINAL-URL:https://firstbaptistbrentwood.com
X-WR-CALDESC:Events for First Baptist Church Brentwood
REFRESH-INTERVAL;VALUE=DURATION:PT1H
X-Robots-Tag:noindex
X-PUBLISHED-TTL:PT1H
BEGIN:VTIMEZONE
TZID:America/New_York
BEGIN:DAYLIGHT
TZOFFSETFROM:-0500
TZOFFSETTO:-0400
TZNAME:EDT
DTSTART:20250309T070000
END:DAYLIGHT
BEGIN:STANDARD
TZOFFSETFROM:-0400
TZOFFSETTO:-0500
TZNAME:EST
DTSTART:20251102T060000
END:STANDARD
BEGIN:DAYLIGHT
TZOFFSETFROM:-0500
TZOFFSETTO:-0400
TZNAME:EDT
DTSTART:20260308T070000
END:DAYLIGHT
BEGIN:STANDARD
TZOFFSETFROM:-0400
TZOFFSETTO:-0500
TZNAME:EST
DTSTART:20261101T060000
END:STANDARD
BEGIN:DAYLIGHT
TZOFFSETFROM:-0500
TZOFFSETTO:-0400
TZNAME:EDT
DTSTART:20270314T070000
END:DAYLIGHT
BEGIN:STANDARD
TZOFFSETFROM:-0400
TZOFFSETTO:-0500
TZNAME:EST
DTSTART:20271107T060000
END:STANDARD
END:VTIMEZONE
BEGIN:VEVENT
DTSTART;TZID=America/New_York:20260426T113000
DTEND;TZID=America/New_York:20260426T123000
DTSTAMP:20260425T080529
CREATED:20260221T200543Z
LAST-MODIFIED:20260221T200543Z
UID:24506-1777203000-1777206600@firstbaptistbrentwood.com
SUMMARY:Deacon's Meeting
DESCRIPTION:
URL:https://firstbaptistbrentwood.com/event/deacons-meeting-5/
END:VEVENT
BEGIN:VEVENT
DTSTART;TZID=America/New_York:20260426T180000
DTEND;TZID=America/New_York:20260426T190000
DTSTAMP:20260425T080529
CREATED:20260221T193005Z
LAST-MODIFIED:20260221T193005Z
UID:24458-1777226400-1777230000@firstbaptistbrentwood.com
SUMMARY:A.A. Group Meeting
DESCRIPTION:
URL:https://firstbaptistbrentwood.com/event/a-a-group-meeting-19/
END:VEVENT
BEGIN:VEVENT
DTSTART;TZID=America/New_York:20260427T190000
DTEND;TZID=America/New_York:20260427T200000
DTSTAMP:20260425T080529
CREATED:20260221T193239Z
LAST-MODIFIED:20260221T193239Z
UID:24464-1777316400-1777320000@firstbaptistbrentwood.com
SUMMARY:A.C.A. Group Meeting
DESCRIPTION:
URL:https://firstbaptistbrentwood.com/event/a-c-a-group-meeting-18/
END:VEVENT
BEGIN:VEVENT
DTSTART;TZID=America/New_York:20260429T100000
DTEND;TZID=America/New_York:20260429T120000
DTSTAMP:20260425T080529
CREATED:20260221T193910Z
LAST-MODIFIED:20260221T193910Z
UID:24476-1777456800-1777464000@firstbaptistbrentwood.com
SUMMARY:Bible Study with Kim Mather
DESCRIPTION:
URL:https://firstbaptistbrentwood.com/event/bible-study-with-kim-mather-20/
END:VEVENT
BEGIN:VEVENT
DTSTART;TZID=America/New_York:20260429T143000
DTEND;TZID=America/New_York:20260429T153000
DTSTAMP:20260425T080529
CREATED:20260221T194225Z
LAST-MODIFIED:20260221T194225Z
UID:24486-1777473000-1777476600@firstbaptistbrentwood.com
SUMMARY:Steering Committee Meeting
DESCRIPTION:
URL:https://firstbaptistbrentwood.com/event/steering-committee-meeting-5/
END:VEVENT
BEGIN:VEVENT
DTSTART;TZID=America/New_York:20260429T183000
DTEND;TZID=America/New_York:20260429T193000
DTSTAMP:20260425T080529
CREATED:20260221T194648Z
LAST-MODIFIED:20260221T194648Z
UID:24496-1777487400-1777491000@firstbaptistbrentwood.com
SUMMARY:Bible Study with Pastor Ken Lawrence
DESCRIPTION:
URL:https://firstbaptistbrentwood.com/event/bible-study-with-pastor-ken-lawrence-18/
END:VEVENT
END:VCALENDAR