BEGIN:VCALENDAR
VERSION:2.0
PRODID:-//First Baptist Church Brentwood - ECPv6.15.20//NONSGML v1.0//EN
CALSCALE:GREGORIAN
METHOD:PUBLISH
X-ORIGINAL-URL:https://firstbaptistbrentwood.com
X-WR-CALDESC:Events for First Baptist Church Brentwood
REFRESH-INTERVAL;VALUE=DURATION:PT1H
X-Robots-Tag:noindex
X-PUBLISHED-TTL:PT1H
BEGIN:VTIMEZONE
TZID:America/New_York
BEGIN:DAYLIGHT
TZOFFSETFROM:-0500
TZOFFSETTO:-0400
TZNAME:EDT
DTSTART:20250309T070000
END:DAYLIGHT
BEGIN:STANDARD
TZOFFSETFROM:-0400
TZOFFSETTO:-0500
TZNAME:EST
DTSTART:20251102T060000
END:STANDARD
BEGIN:DAYLIGHT
TZOFFSETFROM:-0500
TZOFFSETTO:-0400
TZNAME:EDT
DTSTART:20260308T070000
END:DAYLIGHT
BEGIN:STANDARD
TZOFFSETFROM:-0400
TZOFFSETTO:-0500
TZNAME:EST
DTSTART:20261101T060000
END:STANDARD
BEGIN:DAYLIGHT
TZOFFSETFROM:-0500
TZOFFSETTO:-0400
TZNAME:EDT
DTSTART:20270314T070000
END:DAYLIGHT
BEGIN:STANDARD
TZOFFSETFROM:-0400
TZOFFSETTO:-0500
TZNAME:EST
DTSTART:20271107T060000
END:STANDARD
END:VTIMEZONE
BEGIN:VEVENT
DTSTART;TZID=America/New_York:20260308T180000
DTEND;TZID=America/New_York:20260308T190000
DTSTAMP:20260425T171303
CREATED:20260309T002902Z
LAST-MODIFIED:20260309T002902Z
UID:24521-1772992800-1772996400@firstbaptistbrentwood.com
SUMMARY:A.A. Group Meeting
DESCRIPTION:
URL:https://firstbaptistbrentwood.com/event/a-a-group-meeting-20/
END:VEVENT
BEGIN:VEVENT
DTSTART;TZID=America/New_York:20260309T190000
DTEND;TZID=America/New_York:20260309T203000
DTSTAMP:20260425T171303
CREATED:20260221T185435Z
LAST-MODIFIED:20260221T185435Z
UID:24403-1773082800-1773088200@firstbaptistbrentwood.com
SUMMARY:A.C.A. Group Meeting
DESCRIPTION:
URL:https://firstbaptistbrentwood.com/event/a-c-a-group-meeting-13/
END:VEVENT
BEGIN:VEVENT
DTSTART;TZID=America/New_York:20260311T100000
DTEND;TZID=America/New_York:20260311T120000
DTSTAMP:20260425T171303
CREATED:20260221T185907Z
LAST-MODIFIED:20260221T185907Z
UID:24411-1773223200-1773230400@firstbaptistbrentwood.com
SUMMARY:Bible Study with Kim Mather
DESCRIPTION:
URL:https://firstbaptistbrentwood.com/event/bible-study-with-kim-mather-13/
END:VEVENT
BEGIN:VEVENT
DTSTART;TZID=America/New_York:20260311T143000
DTEND;TZID=America/New_York:20260311T153000
DTSTAMP:20260425T171303
CREATED:20260221T190225Z
LAST-MODIFIED:20260221T190225Z
UID:24419-1773239400-1773243000@firstbaptistbrentwood.com
SUMMARY:Steering Committee
DESCRIPTION:
URL:https://firstbaptistbrentwood.com/event/steering-committee-2/
END:VEVENT
BEGIN:VEVENT
DTSTART;TZID=America/New_York:20260311T183000
DTEND;TZID=America/New_York:20260311T193000
DTSTAMP:20260425T171303
CREATED:20260221T190716Z
LAST-MODIFIED:20260221T190716Z
UID:24431-1773253800-1773257400@firstbaptistbrentwood.com
SUMMARY:Bible Study with Pastor Ken Lawrence
DESCRIPTION:
URL:https://firstbaptistbrentwood.com/event/bible-study-with-pastor-ken-lawrence-10/
END:VEVENT
BEGIN:VEVENT
DTSTART;TZID=America/New_York:20260315T180000
DTEND;TZID=America/New_York:20260315T190000
DTSTAMP:20260425T171303
CREATED:20260221T184146Z
LAST-MODIFIED:20260221T184146Z
UID:24389-1773597600-1773601200@firstbaptistbrentwood.com
SUMMARY:A.A. Group Meeting
DESCRIPTION:
URL:https://firstbaptistbrentwood.com/event/a-a-group-meeting-13/
END:VEVENT
BEGIN:VEVENT
DTSTART;TZID=America/New_York:20260316T190000
DTEND;TZID=America/New_York:20260316T203000
DTSTAMP:20260425T171303
CREATED:20260221T185257Z
LAST-MODIFIED:20260221T185540Z
UID:24401-1773687600-1773693000@firstbaptistbrentwood.com
SUMMARY:A.C.A. Group Meeting
DESCRIPTION:
URL:https://firstbaptistbrentwood.com/event/a-c-a-group-meeting-12/
END:VEVENT
BEGIN:VEVENT
DTSTART;TZID=America/New_York:20260317T180000
DTEND;TZID=America/New_York:20260317T190000
DTSTAMP:20260425T171303
CREATED:20260221T192321Z
LAST-MODIFIED:20260221T192321Z
UID:24449-1773770400-1773774000@firstbaptistbrentwood.com
SUMMARY:Trustee's Meeting
DESCRIPTION:
URL:https://firstbaptistbrentwood.com/event/trustees-meeting-4/
END:VEVENT
BEGIN:VEVENT
DTSTART;TZID=America/New_York:20260318T100000
DTEND;TZID=America/New_York:20260318T120000
DTSTAMP:20260425T171303
CREATED:20260221T185947Z
LAST-MODIFIED:20260221T185947Z
UID:24413-1773828000-1773835200@firstbaptistbrentwood.com
SUMMARY:Bible Study with Kim Mather
DESCRIPTION:
URL:https://firstbaptistbrentwood.com/event/bible-study-with-kim-mather-14/
END:VEVENT
BEGIN:VEVENT
DTSTART;TZID=America/New_York:20260318T143000
DTEND;TZID=America/New_York:20260318T153000
DTSTAMP:20260425T171303
CREATED:20260221T190300Z
LAST-MODIFIED:20260221T190300Z
UID:24421-1773844200-1773847800@firstbaptistbrentwood.com
SUMMARY:Steering Committee
DESCRIPTION:
URL:https://firstbaptistbrentwood.com/event/steering-committee-3/
END:VEVENT
BEGIN:VEVENT
DTSTART;TZID=America/New_York:20260318T183000
DTEND;TZID=America/New_York:20260318T193000
DTSTAMP:20260425T171303
CREATED:20260221T190756Z
LAST-MODIFIED:20260221T190756Z
UID:24433-1773858600-1773862200@firstbaptistbrentwood.com
SUMMARY:Bible Study with Pastor Ken Lawrence
DESCRIPTION:
URL:https://firstbaptistbrentwood.com/event/bible-study-with-pastor-ken-lawrence-11/
END:VEVENT
BEGIN:VEVENT
DTSTART;TZID=America/New_York:20260321T083000
DTEND;TZID=America/New_York:20260321T100000
DTSTAMP:20260425T171303
CREATED:20260221T191509Z
LAST-MODIFIED:20260221T194922Z
UID:24445-1774081800-1774087200@firstbaptistbrentwood.com
SUMMARY:Men's Breakfast -all men welcome
DESCRIPTION:
URL:https://firstbaptistbrentwood.com/event/mens-breakfast-2/
END:VEVENT
BEGIN:VEVENT
DTSTART;TZID=America/New_York:20260322T180000
DTEND;TZID=America/New_York:20260322T190000
DTSTAMP:20260425T171303
CREATED:20260221T184256Z
LAST-MODIFIED:20260221T184256Z
UID:24391-1774202400-1774206000@firstbaptistbrentwood.com
SUMMARY:A.A. Group Meeting
DESCRIPTION:
URL:https://firstbaptistbrentwood.com/event/a-a-group-meeting-14/
END:VEVENT
BEGIN:VEVENT
DTSTART;TZID=America/New_York:20260323T190000
DTEND;TZID=America/New_York:20260323T203000
DTSTAMP:20260425T171303
CREATED:20260221T185620Z
LAST-MODIFIED:20260221T185620Z
UID:24405-1774292400-1774297800@firstbaptistbrentwood.com
SUMMARY:A.C.A. Group Meeting
DESCRIPTION:
URL:https://firstbaptistbrentwood.com/event/a-c-a-group-meeting-14/
END:VEVENT
BEGIN:VEVENT
DTSTART;TZID=America/New_York:20260325T100000
DTEND;TZID=America/New_York:20260325T120000
DTSTAMP:20260425T171303
CREATED:20260221T190019Z
LAST-MODIFIED:20260221T190019Z
UID:24415-1774432800-1774440000@firstbaptistbrentwood.com
SUMMARY:Bible Study with Kim Mather
DESCRIPTION:
URL:https://firstbaptistbrentwood.com/event/bible-study-with-kim-mather-15/
END:VEVENT
BEGIN:VEVENT
DTSTART;TZID=America/New_York:20260325T130000
DTEND;TZID=America/New_York:20260325T173000
DTSTAMP:20260425T171303
CREATED:20260221T191017Z
LAST-MODIFIED:20260221T191017Z
UID:24439-1774443600-1774459800@firstbaptistbrentwood.com
SUMMARY:Red Cross Blood Drive
DESCRIPTION:
URL:https://firstbaptistbrentwood.com/event/red-cross-blood-drive-3/
END:VEVENT
BEGIN:VEVENT
DTSTART;TZID=America/New_York:20260325T143000
DTEND;TZID=America/New_York:20260325T153000
DTSTAMP:20260425T171303
CREATED:20260221T190339Z
LAST-MODIFIED:20260221T190339Z
UID:24423-1774449000-1774452600@firstbaptistbrentwood.com
SUMMARY:Steering Committee
DESCRIPTION:
URL:https://firstbaptistbrentwood.com/event/steering-committee-4/
END:VEVENT
BEGIN:VEVENT
DTSTART;TZID=America/New_York:20260325T183000
DTEND;TZID=America/New_York:20260325T193000
DTSTAMP:20260425T171303
CREATED:20260221T190841Z
LAST-MODIFIED:20260221T190841Z
UID:24435-1774463400-1774467000@firstbaptistbrentwood.com
SUMMARY:Bible Study with Pastor Ken Lawrence
DESCRIPTION:
URL:https://firstbaptistbrentwood.com/event/bible-study-with-pastor-ken-lawrence-12/
END:VEVENT
BEGIN:VEVENT
DTSTART;VALUE=DATE:20260329
DTEND;VALUE=DATE:20260330
DTSTAMP:20260425T171303
CREATED:20260107T234008Z
LAST-MODIFIED:20260309T001900Z
UID:24306-1774742400-1774828799@firstbaptistbrentwood.com
SUMMARY:Palm Sunday Worship at 10:00 am
DESCRIPTION:
URL:https://firstbaptistbrentwood.com/event/palm-sunday/
END:VEVENT
BEGIN:VEVENT
DTSTART;TZID=America/New_York:20260329T113000
DTEND;TZID=America/New_York:20260329T123000
DTSTAMP:20260425T171303
CREATED:20260221T184426Z
LAST-MODIFIED:20260221T184426Z
UID:24393-1774783800-1774787400@firstbaptistbrentwood.com
SUMMARY:Deacon's Meeting
DESCRIPTION:
URL:https://firstbaptistbrentwood.com/event/deacons-meeting-4/
END:VEVENT
BEGIN:VEVENT
DTSTART;TZID=America/New_York:20260329T180000
DTEND;TZID=America/New_York:20260329T190000
DTSTAMP:20260425T171303
CREATED:20260221T184511Z
LAST-MODIFIED:20260221T184511Z
UID:24395-1774807200-1774810800@firstbaptistbrentwood.com
SUMMARY:A.A. Group Meeting
DESCRIPTION:
URL:https://firstbaptistbrentwood.com/event/a-a-group-meeting-15/
END:VEVENT
BEGIN:VEVENT
DTSTART;TZID=America/New_York:20260330T190000
DTEND;TZID=America/New_York:20260330T203000
DTSTAMP:20260425T171303
CREATED:20260221T185706Z
LAST-MODIFIED:20260221T185706Z
UID:24407-1774897200-1774902600@firstbaptistbrentwood.com
SUMMARY:A.C.A. Group Meeting
DESCRIPTION:
URL:https://firstbaptistbrentwood.com/event/a-c-a-group-meeting-15/
END:VEVENT
BEGIN:VEVENT
DTSTART;TZID=America/New_York:20260401T100000
DTEND;TZID=America/New_York:20260401T120000
DTSTAMP:20260425T171303
CREATED:20260221T190540Z
LAST-MODIFIED:20260221T190540Z
UID:24427-1775037600-1775044800@firstbaptistbrentwood.com
SUMMARY:Bible Study with Kim Mather
DESCRIPTION:
URL:https://firstbaptistbrentwood.com/event/bible-study-with-kim-mather-16/
END:VEVENT
BEGIN:VEVENT
DTSTART;VALUE=DATE:20260402
DTEND;VALUE=DATE:20260403
DTSTAMP:20260425T171303
CREATED:20260107T234110Z
LAST-MODIFIED:20260309T002036Z
UID:24308-1775088000-1775174399@firstbaptistbrentwood.com
SUMMARY:Maundy Thursday Communion Service at 7:00 pm
DESCRIPTION:
URL:https://firstbaptistbrentwood.com/event/maundy-thursday/
END:VEVENT
BEGIN:VEVENT
DTSTART;TZID=America/New_York:20260402T090000
DTEND;TZID=America/New_York:20260402T100000
DTSTAMP:20260425T171303
CREATED:20260221T191421Z
LAST-MODIFIED:20260221T191421Z
UID:24443-1775120400-1775124000@firstbaptistbrentwood.com
SUMMARY:Ladies Breakfast Group/Benson's
DESCRIPTION:
URL:https://firstbaptistbrentwood.com/event/ladies-breakfast-group-bensons-2/
END:VEVENT
BEGIN:VEVENT
DTSTART;VALUE=DATE:20260403
DTEND;VALUE=DATE:20260404
DTSTAMP:20260425T171303
CREATED:20260107T234154Z
LAST-MODIFIED:20260107T234154Z
UID:24310-1775174400-1775260799@firstbaptistbrentwood.com
SUMMARY:Good Friday
DESCRIPTION:
URL:https://firstbaptistbrentwood.com/event/good-friday/
END:VEVENT
BEGIN:VEVENT
DTSTART;VALUE=DATE:20260405
DTEND;VALUE=DATE:20260406
DTSTAMP:20260425T171303
CREATED:20260107T234232Z
LAST-MODIFIED:20260309T002528Z
UID:24312-1775347200-1775433599@firstbaptistbrentwood.com
SUMMARY:Resurrection Sunday
DESCRIPTION:6:30 am Sunrise Service\,  7:00 am Easter Breakfast\,  10:00 am Easter Worship
URL:https://firstbaptistbrentwood.com/event/easter-sunday/
END:VEVENT
BEGIN:VEVENT
DTSTART;TZID=America/New_York:20260405T180000
DTEND;TZID=America/New_York:20260405T190000
DTSTAMP:20260425T171303
CREATED:20260221T192820Z
LAST-MODIFIED:20260221T192820Z
UID:24452-1775412000-1775415600@firstbaptistbrentwood.com
SUMMARY:A.A. Group Meeting
DESCRIPTION:
URL:https://firstbaptistbrentwood.com/event/a-a-group-meeting-16/
END:VEVENT
BEGIN:VEVENT
DTSTART;TZID=America/New_York:20260406T190000
DTEND;TZID=America/New_York:20260406T200000
DTSTAMP:20260425T171303
CREATED:20260221T193103Z
LAST-MODIFIED:20260221T193103Z
UID:24460-1775502000-1775505600@firstbaptistbrentwood.com
SUMMARY:A.C.A. Group Meeting
DESCRIPTION:
URL:https://firstbaptistbrentwood.com/event/a-c-a-group-meeting-16/
END:VEVENT
BEGIN:VEVENT
DTSTART;TZID=America/New_York:20260408T100000
DTEND;TZID=America/New_York:20260408T120000
DTSTAMP:20260425T171303
CREATED:20260221T193648Z
LAST-MODIFIED:20260221T193648Z
UID:24470-1775642400-1775649600@firstbaptistbrentwood.com
SUMMARY:Bible Study with Kim Mather
DESCRIPTION:
URL:https://firstbaptistbrentwood.com/event/bible-study-with-kim-mather-17/
END:VEVENT
END:VCALENDAR