BEGIN:VCALENDAR
VERSION:2.0
PRODID:-//First Baptist Church Brentwood - ECPv6.15.20//NONSGML v1.0//EN
CALSCALE:GREGORIAN
METHOD:PUBLISH
X-ORIGINAL-URL:https://firstbaptistbrentwood.com
X-WR-CALDESC:Events for First Baptist Church Brentwood
REFRESH-INTERVAL;VALUE=DURATION:PT1H
X-Robots-Tag:noindex
X-PUBLISHED-TTL:PT1H
BEGIN:VTIMEZONE
TZID:America/New_York
BEGIN:DAYLIGHT
TZOFFSETFROM:-0500
TZOFFSETTO:-0400
TZNAME:EDT
DTSTART:20250309T070000
END:DAYLIGHT
BEGIN:STANDARD
TZOFFSETFROM:-0400
TZOFFSETTO:-0500
TZNAME:EST
DTSTART:20251102T060000
END:STANDARD
BEGIN:DAYLIGHT
TZOFFSETFROM:-0500
TZOFFSETTO:-0400
TZNAME:EDT
DTSTART:20260308T070000
END:DAYLIGHT
BEGIN:STANDARD
TZOFFSETFROM:-0400
TZOFFSETTO:-0500
TZNAME:EST
DTSTART:20261101T060000
END:STANDARD
BEGIN:DAYLIGHT
TZOFFSETFROM:-0500
TZOFFSETTO:-0400
TZNAME:EDT
DTSTART:20270314T070000
END:DAYLIGHT
BEGIN:STANDARD
TZOFFSETFROM:-0400
TZOFFSETTO:-0500
TZNAME:EST
DTSTART:20271107T060000
END:STANDARD
END:VTIMEZONE
BEGIN:VEVENT
DTSTART;TZID=America/New_York:20260413T190000
DTEND;TZID=America/New_York:20260413T200000
DTSTAMP:20260425T115551
CREATED:20260221T193532Z
LAST-MODIFIED:20260221T193532Z
UID:24468-1776106800-1776110400@firstbaptistbrentwood.com
SUMMARY:A.C.A. Group Meeting
DESCRIPTION:
URL:https://firstbaptistbrentwood.com/event/a-c-a-group-meeting-19/
END:VEVENT
BEGIN:VEVENT
DTSTART;TZID=America/New_York:20260415T100000
DTEND;TZID=America/New_York:20260415T120000
DTSTAMP:20260425T115551
CREATED:20260221T193717Z
LAST-MODIFIED:20260221T193717Z
UID:24472-1776247200-1776254400@firstbaptistbrentwood.com
SUMMARY:Bible Study with Kim Mather
DESCRIPTION:
URL:https://firstbaptistbrentwood.com/event/bible-study-with-kim-mather-18/
END:VEVENT
BEGIN:VEVENT
DTSTART;TZID=America/New_York:20260415T143000
DTEND;TZID=America/New_York:20260415T153000
DTSTAMP:20260425T115551
CREATED:20260221T194119Z
LAST-MODIFIED:20260221T194119Z
UID:24482-1776263400-1776267000@firstbaptistbrentwood.com
SUMMARY:Steering Committee Meeting
DESCRIPTION:
URL:https://firstbaptistbrentwood.com/event/steering-committee-meeting-3/
END:VEVENT
BEGIN:VEVENT
DTSTART;TZID=America/New_York:20260415T183000
DTEND;TZID=America/New_York:20260415T193000
DTSTAMP:20260425T115551
CREATED:20260221T194539Z
LAST-MODIFIED:20260221T194539Z
UID:24492-1776277800-1776281400@firstbaptistbrentwood.com
SUMMARY:Bible Study with Pastor Ken Lawrence
DESCRIPTION:
URL:https://firstbaptistbrentwood.com/event/bible-study-with-pastor-ken-lawrence-16/
END:VEVENT
BEGIN:VEVENT
DTSTART;TZID=America/New_York:20260418T083000
DTEND;TZID=America/New_York:20260418T100000
DTSTAMP:20260425T115551
CREATED:20260221T194806Z
LAST-MODIFIED:20260221T194806Z
UID:24498-1776501000-1776506400@firstbaptistbrentwood.com
SUMMARY:Men's Breakfast -all men welcome
DESCRIPTION:
URL:https://firstbaptistbrentwood.com/event/mens-breakfast-all-men-welcome-3/
END:VEVENT
BEGIN:VEVENT
DTSTART;TZID=America/New_York:20260419T120000
DTEND;TZID=America/New_York:20260419T133000
DTSTAMP:20260425T115551
CREATED:20260221T200734Z
LAST-MODIFIED:20260221T200734Z
UID:24508-1776600000-1776605400@firstbaptistbrentwood.com
SUMMARY:Quarterly Business Meeting-All Welcome
DESCRIPTION:
URL:https://firstbaptistbrentwood.com/event/quarterly-business-meeting-all-welcome/
END:VEVENT
BEGIN:VEVENT
DTSTART;TZID=America/New_York:20260419T180000
DTEND;TZID=America/New_York:20260419T190000
DTSTAMP:20260425T115551
CREATED:20260221T192932Z
LAST-MODIFIED:20260221T192932Z
UID:24456-1776621600-1776625200@firstbaptistbrentwood.com
SUMMARY:A.A. Group Meeting
DESCRIPTION:
URL:https://firstbaptistbrentwood.com/event/a-a-group-meeting-18/
END:VEVENT
BEGIN:VEVENT
DTSTART;TZID=America/New_York:20260420T190000
DTEND;TZID=America/New_York:20260420T200000
DTSTAMP:20260425T115551
CREATED:20260221T193204Z
LAST-MODIFIED:20260221T193204Z
UID:24462-1776711600-1776715200@firstbaptistbrentwood.com
SUMMARY:A.C.A. Group Meeting
DESCRIPTION:
URL:https://firstbaptistbrentwood.com/event/a-c-a-group-meeting-17/
END:VEVENT
BEGIN:VEVENT
DTSTART;TZID=America/New_York:20260421T180000
DTEND;TZID=America/New_York:20260421T190000
DTSTAMP:20260425T115551
CREATED:20260221T193331Z
LAST-MODIFIED:20260221T193331Z
UID:24466-1776794400-1776798000@firstbaptistbrentwood.com
SUMMARY:Trustee's Meeting
DESCRIPTION:
URL:https://firstbaptistbrentwood.com/event/trustees-meeting-5/
END:VEVENT
BEGIN:VEVENT
DTSTART;TZID=America/New_York:20260422T100000
DTEND;TZID=America/New_York:20260422T120000
DTSTAMP:20260425T115551
CREATED:20260221T193751Z
LAST-MODIFIED:20260221T193751Z
UID:24474-1776852000-1776859200@firstbaptistbrentwood.com
SUMMARY:Bible Study with Kim Mather
DESCRIPTION:
URL:https://firstbaptistbrentwood.com/event/bible-study-with-kim-mather-19/
END:VEVENT
BEGIN:VEVENT
DTSTART;TZID=America/New_York:20260422T143000
DTEND;TZID=America/New_York:20260422T153000
DTSTAMP:20260425T115551
CREATED:20260221T194152Z
LAST-MODIFIED:20260221T194152Z
UID:24484-1776868200-1776871800@firstbaptistbrentwood.com
SUMMARY:Steering Committee Meeting
DESCRIPTION:
URL:https://firstbaptistbrentwood.com/event/steering-committee-meeting-4/
END:VEVENT
BEGIN:VEVENT
DTSTART;TZID=America/New_York:20260422T183000
DTEND;TZID=America/New_York:20260422T193000
DTSTAMP:20260425T115551
CREATED:20260221T194612Z
LAST-MODIFIED:20260221T194612Z
UID:24494-1776882600-1776886200@firstbaptistbrentwood.com
SUMMARY:Bible Study with Pastor Ken Lawrence
DESCRIPTION:
URL:https://firstbaptistbrentwood.com/event/bible-study-with-pastor-ken-lawrence-17/
END:VEVENT
BEGIN:VEVENT
DTSTART;TZID=America/New_York:20260426T113000
DTEND;TZID=America/New_York:20260426T123000
DTSTAMP:20260425T115551
CREATED:20260221T200543Z
LAST-MODIFIED:20260221T200543Z
UID:24506-1777203000-1777206600@firstbaptistbrentwood.com
SUMMARY:Deacon's Meeting
DESCRIPTION:
URL:https://firstbaptistbrentwood.com/event/deacons-meeting-5/
END:VEVENT
BEGIN:VEVENT
DTSTART;TZID=America/New_York:20260426T180000
DTEND;TZID=America/New_York:20260426T190000
DTSTAMP:20260425T115551
CREATED:20260221T193005Z
LAST-MODIFIED:20260221T193005Z
UID:24458-1777226400-1777230000@firstbaptistbrentwood.com
SUMMARY:A.A. Group Meeting
DESCRIPTION:
URL:https://firstbaptistbrentwood.com/event/a-a-group-meeting-19/
END:VEVENT
BEGIN:VEVENT
DTSTART;TZID=America/New_York:20260427T190000
DTEND;TZID=America/New_York:20260427T200000
DTSTAMP:20260425T115551
CREATED:20260221T193239Z
LAST-MODIFIED:20260221T193239Z
UID:24464-1777316400-1777320000@firstbaptistbrentwood.com
SUMMARY:A.C.A. Group Meeting
DESCRIPTION:
URL:https://firstbaptistbrentwood.com/event/a-c-a-group-meeting-18/
END:VEVENT
BEGIN:VEVENT
DTSTART;TZID=America/New_York:20260429T100000
DTEND;TZID=America/New_York:20260429T120000
DTSTAMP:20260425T115551
CREATED:20260221T193910Z
LAST-MODIFIED:20260221T193910Z
UID:24476-1777456800-1777464000@firstbaptistbrentwood.com
SUMMARY:Bible Study with Kim Mather
DESCRIPTION:
URL:https://firstbaptistbrentwood.com/event/bible-study-with-kim-mather-20/
END:VEVENT
BEGIN:VEVENT
DTSTART;TZID=America/New_York:20260429T143000
DTEND;TZID=America/New_York:20260429T153000
DTSTAMP:20260425T115551
CREATED:20260221T194225Z
LAST-MODIFIED:20260221T194225Z
UID:24486-1777473000-1777476600@firstbaptistbrentwood.com
SUMMARY:Steering Committee Meeting
DESCRIPTION:
URL:https://firstbaptistbrentwood.com/event/steering-committee-meeting-5/
END:VEVENT
BEGIN:VEVENT
DTSTART;TZID=America/New_York:20260429T183000
DTEND;TZID=America/New_York:20260429T193000
DTSTAMP:20260425T115551
CREATED:20260221T194648Z
LAST-MODIFIED:20260221T194648Z
UID:24496-1777487400-1777491000@firstbaptistbrentwood.com
SUMMARY:Bible Study with Pastor Ken Lawrence
DESCRIPTION:
URL:https://firstbaptistbrentwood.com/event/bible-study-with-pastor-ken-lawrence-18/
END:VEVENT
BEGIN:VEVENT
DTSTART;TZID=America/New_York:20260503T180000
DTEND;TZID=America/New_York:20260503T190000
DTSTAMP:20260425T115551
CREATED:20260309T003435Z
LAST-MODIFIED:20260309T003435Z
UID:24525-1777831200-1777834800@firstbaptistbrentwood.com
SUMMARY:A.A. Group Meeting
DESCRIPTION:
URL:https://firstbaptistbrentwood.com/event/a-a-group-meeting-22/
END:VEVENT
BEGIN:VEVENT
DTSTART;TZID=America/New_York:20260504T190000
DTEND;TZID=America/New_York:20260504T200000
DTSTAMP:20260425T115551
CREATED:20260309T003949Z
LAST-MODIFIED:20260309T004230Z
UID:24537-1777921200-1777924800@firstbaptistbrentwood.com
SUMMARY:A.C.A. Group Meeting
DESCRIPTION:
URL:https://firstbaptistbrentwood.com/event/a-c-a-group-meeting-20/
END:VEVENT
BEGIN:VEVENT
DTSTART;TZID=America/New_York:20260506T100000
DTEND;TZID=America/New_York:20260506T120000
DTSTAMP:20260425T115551
CREATED:20260309T004559Z
LAST-MODIFIED:20260309T004559Z
UID:24547-1778061600-1778068800@firstbaptistbrentwood.com
SUMMARY:Bible Study with Kim Mather
DESCRIPTION:
URL:https://firstbaptistbrentwood.com/event/bible-study-with-kim-mather-21/
END:VEVENT
BEGIN:VEVENT
DTSTART;TZID=America/New_York:20260506T143000
DTEND;TZID=America/New_York:20260506T153000
DTSTAMP:20260425T115551
CREATED:20260309T004926Z
LAST-MODIFIED:20260309T004926Z
UID:24555-1778077800-1778081400@firstbaptistbrentwood.com
SUMMARY:Steering Committee Meeting
DESCRIPTION:
URL:https://firstbaptistbrentwood.com/event/steering-committee-meeting-6/
END:VEVENT
BEGIN:VEVENT
DTSTART;TZID=America/New_York:20260506T183000
DTEND;TZID=America/New_York:20260506T193000
DTSTAMP:20260425T115551
CREATED:20260309T005218Z
LAST-MODIFIED:20260309T005218Z
UID:24563-1778092200-1778095800@firstbaptistbrentwood.com
SUMMARY:Bible Study with Pastor Ken Lawrence
DESCRIPTION:
URL:https://firstbaptistbrentwood.com/event/bible-study-with-pastor-ken-lawrence-14/
END:VEVENT
BEGIN:VEVENT
DTSTART;TZID=America/New_York:20260510T113000
DTEND;TZID=America/New_York:20260510T123000
DTSTAMP:20260425T115551
CREATED:20260309T003758Z
LAST-MODIFIED:20260309T003758Z
UID:24533-1778412600-1778416200@firstbaptistbrentwood.com
SUMMARY:Mission Board Meeting
DESCRIPTION:
URL:https://firstbaptistbrentwood.com/event/mission-board-meeting-3/
END:VEVENT
BEGIN:VEVENT
DTSTART;TZID=America/New_York:20260510T180000
DTEND;TZID=America/New_York:20260510T190000
DTSTAMP:20260425T115551
CREATED:20260309T002954Z
LAST-MODIFIED:20260309T002954Z
UID:24523-1778436000-1778439600@firstbaptistbrentwood.com
SUMMARY:A.A. Group Meeting
DESCRIPTION:
URL:https://firstbaptistbrentwood.com/event/a-a-group-meeting-21/
END:VEVENT
BEGIN:VEVENT
DTSTART;TZID=America/New_York:20260511T190000
DTEND;TZID=America/New_York:20260511T200000
DTSTAMP:20260425T115551
CREATED:20260309T004029Z
LAST-MODIFIED:20260309T004029Z
UID:24539-1778526000-1778529600@firstbaptistbrentwood.com
SUMMARY:A.C.A. Group Meeting
DESCRIPTION:
URL:https://firstbaptistbrentwood.com/event/a-c-a-group-meeting-21/
END:VEVENT
BEGIN:VEVENT
DTSTART;TZID=America/New_York:20260513T100000
DTEND;TZID=America/New_York:20260513T120000
DTSTAMP:20260425T115551
CREATED:20260309T004641Z
LAST-MODIFIED:20260309T004641Z
UID:24549-1778666400-1778673600@firstbaptistbrentwood.com
SUMMARY:Bible Study with Kim Mather
DESCRIPTION:
URL:https://firstbaptistbrentwood.com/event/bible-study-with-kim-mather-22/
END:VEVENT
BEGIN:VEVENT
DTSTART;TZID=America/New_York:20260513T143000
DTEND;TZID=America/New_York:20260513T153000
DTSTAMP:20260425T115551
CREATED:20260309T005008Z
LAST-MODIFIED:20260309T005008Z
UID:24557-1778682600-1778686200@firstbaptistbrentwood.com
SUMMARY:Steering Committee Meeting
DESCRIPTION:
URL:https://firstbaptistbrentwood.com/event/steering-committee-meeting-7/
END:VEVENT
BEGIN:VEVENT
DTSTART;TZID=America/New_York:20260513T183000
DTEND;TZID=America/New_York:20260513T193000
DTSTAMP:20260425T115551
CREATED:20260309T005645Z
LAST-MODIFIED:20260309T005645Z
UID:24571-1778697000-1778700600@firstbaptistbrentwood.com
SUMMARY:Bible Study with Pastor Ken Lawrence
DESCRIPTION:
URL:https://firstbaptistbrentwood.com/event/bible-study-with-pastor-ken-lawrence-21/
END:VEVENT
BEGIN:VEVENT
DTSTART;TZID=America/New_York:20260516T083000
DTEND;TZID=America/New_York:20260516T100000
DTSTAMP:20260425T115551
CREATED:20260309T005442Z
LAST-MODIFIED:20260309T005442Z
UID:24569-1778920200-1778925600@firstbaptistbrentwood.com
SUMMARY:Men's Breakfast -all men welcome
DESCRIPTION:
URL:https://firstbaptistbrentwood.com/event/mens-breakfast-all-men-welcome-4/
END:VEVENT
END:VCALENDAR