BEGIN:VCALENDAR
VERSION:2.0
PRODID:-//First Baptist Church Brentwood - ECPv6.15.20//NONSGML v1.0//EN
CALSCALE:GREGORIAN
METHOD:PUBLISH
X-ORIGINAL-URL:https://firstbaptistbrentwood.com
X-WR-CALDESC:Events for First Baptist Church Brentwood
REFRESH-INTERVAL;VALUE=DURATION:PT1H
X-Robots-Tag:noindex
X-PUBLISHED-TTL:PT1H
BEGIN:VTIMEZONE
TZID:America/New_York
BEGIN:DAYLIGHT
TZOFFSETFROM:-0500
TZOFFSETTO:-0400
TZNAME:EDT
DTSTART:20250309T070000
END:DAYLIGHT
BEGIN:STANDARD
TZOFFSETFROM:-0400
TZOFFSETTO:-0500
TZNAME:EST
DTSTART:20251102T060000
END:STANDARD
BEGIN:DAYLIGHT
TZOFFSETFROM:-0500
TZOFFSETTO:-0400
TZNAME:EDT
DTSTART:20260308T070000
END:DAYLIGHT
BEGIN:STANDARD
TZOFFSETFROM:-0400
TZOFFSETTO:-0500
TZNAME:EST
DTSTART:20261101T060000
END:STANDARD
BEGIN:DAYLIGHT
TZOFFSETFROM:-0500
TZOFFSETTO:-0400
TZNAME:EDT
DTSTART:20270314T070000
END:DAYLIGHT
BEGIN:STANDARD
TZOFFSETFROM:-0400
TZOFFSETTO:-0500
TZNAME:EST
DTSTART:20271107T060000
END:STANDARD
END:VTIMEZONE
BEGIN:VEVENT
DTSTART;TZID=America/New_York:20260107T100000
DTEND;TZID=America/New_York:20260107T120000
DTSTAMP:20260425T182548
CREATED:20251214T221825Z
LAST-MODIFIED:20251214T221825Z
UID:24279-1767780000-1767787200@firstbaptistbrentwood.com
SUMMARY:Bible Study with Kim Mather
DESCRIPTION:
URL:https://firstbaptistbrentwood.com/event/bible-study-with-kim-mather-4/
END:VEVENT
BEGIN:VEVENT
DTSTART;TZID=America/New_York:20260107T183000
DTEND;TZID=America/New_York:20260107T193000
DTSTAMP:20260425T182548
CREATED:20251214T222156Z
LAST-MODIFIED:20251214T222156Z
UID:24287-1767810600-1767814200@firstbaptistbrentwood.com
SUMMARY:Bible Study with Pastor Ken Lawrence
DESCRIPTION:
URL:https://firstbaptistbrentwood.com/event/bible-study-with-pastor-ken-lawrence/
END:VEVENT
BEGIN:VEVENT
DTSTART;TZID=America/New_York:20260108T090000
DTEND;TZID=America/New_York:20260108T110000
DTSTAMP:20260425T182548
CREATED:20251212T203326Z
LAST-MODIFIED:20251218T193734Z
UID:24249-1767862800-1767870000@firstbaptistbrentwood.com
SUMMARY:Ladies Breakfast Group
DESCRIPTION:
URL:https://firstbaptistbrentwood.com/event/ladies-breakfast-group/
END:VEVENT
BEGIN:VEVENT
DTSTART;TZID=America/New_York:20260111T180000
DTEND;TZID=America/New_York:20260111T190000
DTSTAMP:20260425T182548
CREATED:20251214T214317Z
LAST-MODIFIED:20251214T214317Z
UID:24256-1768154400-1768158000@firstbaptistbrentwood.com
SUMMARY:A.A Group Meeting
DESCRIPTION:
URL:https://firstbaptistbrentwood.com/event/a-a-group-meeting-5/
END:VEVENT
BEGIN:VEVENT
DTSTART;TZID=America/New_York:20260112T190000
DTEND;TZID=America/New_York:20260112T200000
DTSTAMP:20260425T182548
CREATED:20251214T220435Z
LAST-MODIFIED:20251214T220435Z
UID:24267-1768244400-1768248000@firstbaptistbrentwood.com
SUMMARY:A.C.A. Group Meeting
DESCRIPTION:
URL:https://firstbaptistbrentwood.com/event/a-c-a-group-meeting-4/
END:VEVENT
BEGIN:VEVENT
DTSTART;TZID=America/New_York:20260114T100000
DTEND;TZID=America/New_York:20260114T120000
DTSTAMP:20260425T182548
CREATED:20251214T221910Z
LAST-MODIFIED:20251214T221910Z
UID:24281-1768384800-1768392000@firstbaptistbrentwood.com
SUMMARY:Bible Study with Kim Mather
DESCRIPTION:
URL:https://firstbaptistbrentwood.com/event/bible-study-with-kim-mather-5/
END:VEVENT
BEGIN:VEVENT
DTSTART;TZID=America/New_York:20260114T183000
DTEND;TZID=America/New_York:20260114T193000
DTSTAMP:20260425T182548
CREATED:20251214T222251Z
LAST-MODIFIED:20251214T222251Z
UID:24289-1768415400-1768419000@firstbaptistbrentwood.com
SUMMARY:Bible Study with Pastor Ken Lawrence
DESCRIPTION:
URL:https://firstbaptistbrentwood.com/event/bible-study-with-pastor-ken-lawrence-2/
END:VEVENT
BEGIN:VEVENT
DTSTART;TZID=America/New_York:20260117T083000
DTEND;TZID=America/New_York:20260117T100000
DTSTAMP:20260425T182548
CREATED:20251214T221607Z
LAST-MODIFIED:20251214T221607Z
UID:24277-1768638600-1768644000@firstbaptistbrentwood.com
SUMMARY:Men's Breakfast - all men welcome
DESCRIPTION:
URL:https://firstbaptistbrentwood.com/event/mens-breakfast-all-men-welcome-2/
END:VEVENT
BEGIN:VEVENT
DTSTART;TZID=America/New_York:20260118T113000
DTEND;TZID=America/New_York:20260118T130000
DTSTAMP:20260425T182548
CREATED:20251214T223555Z
LAST-MODIFIED:20260107T232902Z
UID:24295-1768735800-1768741200@firstbaptistbrentwood.com
SUMMARY:Church Annual Meeting
DESCRIPTION:
URL:https://firstbaptistbrentwood.com/event/church-quarterly-meeting/
END:VEVENT
BEGIN:VEVENT
DTSTART;TZID=America/New_York:20260118T180000
DTEND;TZID=America/New_York:20260118T190000
DTSTAMP:20260425T182548
CREATED:20251214T214421Z
LAST-MODIFIED:20251214T214421Z
UID:24258-1768759200-1768762800@firstbaptistbrentwood.com
SUMMARY:A.A Group Meeting
DESCRIPTION:
URL:https://firstbaptistbrentwood.com/event/a-a-group-meeting-6/
END:VEVENT
BEGIN:VEVENT
DTSTART;TZID=America/New_York:20260119T190000
DTEND;TZID=America/New_York:20260119T200000
DTSTAMP:20260425T182548
CREATED:20251214T220523Z
LAST-MODIFIED:20251214T220523Z
UID:24269-1768849200-1768852800@firstbaptistbrentwood.com
SUMMARY:A.C.A. Group Meeting
DESCRIPTION:
URL:https://firstbaptistbrentwood.com/event/a-c-a-group-meeting-5/
END:VEVENT
BEGIN:VEVENT
DTSTART;TZID=America/New_York:20260120T180000
DTEND;TZID=America/New_York:20260120T190000
DTSTAMP:20260425T182548
CREATED:20251214T220725Z
LAST-MODIFIED:20251214T220725Z
UID:24273-1768932000-1768935600@firstbaptistbrentwood.com
SUMMARY:Trustee's Meeting
DESCRIPTION:
URL:https://firstbaptistbrentwood.com/event/trustees-meeting-2/
END:VEVENT
BEGIN:VEVENT
DTSTART;TZID=America/New_York:20260121T100000
DTEND;TZID=America/New_York:20260121T120000
DTSTAMP:20260425T182548
CREATED:20251214T222002Z
LAST-MODIFIED:20251214T222002Z
UID:24283-1768989600-1768996800@firstbaptistbrentwood.com
SUMMARY:Bible Study with Kim Mather
DESCRIPTION:
URL:https://firstbaptistbrentwood.com/event/bible-study-with-kim-mather-6/
END:VEVENT
BEGIN:VEVENT
DTSTART;TZID=America/New_York:20260121T130000
DTEND;TZID=America/New_York:20260121T173000
DTSTAMP:20260425T182548
CREATED:20251214T221051Z
LAST-MODIFIED:20251214T221051Z
UID:24275-1769000400-1769016600@firstbaptistbrentwood.com
SUMMARY:Red Cross Blood Drive
DESCRIPTION:
URL:https://firstbaptistbrentwood.com/event/red-cross-blood-drive-2/
END:VEVENT
BEGIN:VEVENT
DTSTART;TZID=America/New_York:20260121T183000
DTEND;TZID=America/New_York:20260121T193000
DTSTAMP:20260425T182548
CREATED:20251214T222348Z
LAST-MODIFIED:20251214T222348Z
UID:24291-1769020200-1769023800@firstbaptistbrentwood.com
SUMMARY:Bible Study with Pastor Ken Lawrence
DESCRIPTION:
URL:https://firstbaptistbrentwood.com/event/bible-study-with-pastor-ken-lawrence-3/
END:VEVENT
BEGIN:VEVENT
DTSTART;TZID=America/New_York:20260125T113000
DTEND;TZID=America/New_York:20260125T123000
DTSTAMP:20260425T182548
CREATED:20251214T214710Z
LAST-MODIFIED:20251214T214843Z
UID:24262-1769340600-1769344200@firstbaptistbrentwood.com
SUMMARY:Deacons' Meeting
DESCRIPTION:
URL:https://firstbaptistbrentwood.com/event/deacons-meeting-2/
END:VEVENT
BEGIN:VEVENT
DTSTART;TZID=America/New_York:20260125T180000
DTEND;TZID=America/New_York:20260125T190000
DTSTAMP:20260425T182548
CREATED:20251214T214519Z
LAST-MODIFIED:20251214T214519Z
UID:24260-1769364000-1769367600@firstbaptistbrentwood.com
SUMMARY:A.A Group Meeting
DESCRIPTION:
URL:https://firstbaptistbrentwood.com/event/a-a-group-meeting-7/
END:VEVENT
BEGIN:VEVENT
DTSTART;TZID=America/New_York:20260126T190000
DTEND;TZID=America/New_York:20260126T200000
DTSTAMP:20260425T182548
CREATED:20251214T220605Z
LAST-MODIFIED:20251214T220605Z
UID:24271-1769454000-1769457600@firstbaptistbrentwood.com
SUMMARY:A.C.A. Group Meeting
DESCRIPTION:
URL:https://firstbaptistbrentwood.com/event/a-c-a-group-meeting-6/
END:VEVENT
BEGIN:VEVENT
DTSTART;TZID=America/New_York:20260128T100000
DTEND;TZID=America/New_York:20260128T120000
DTSTAMP:20260425T182548
CREATED:20251214T222044Z
LAST-MODIFIED:20251214T222044Z
UID:24285-1769594400-1769601600@firstbaptistbrentwood.com
SUMMARY:Bible Study with Kim Mather
DESCRIPTION:
URL:https://firstbaptistbrentwood.com/event/bible-study-with-kim-mather-7/
END:VEVENT
BEGIN:VEVENT
DTSTART;TZID=America/New_York:20260128T183000
DTEND;TZID=America/New_York:20260128T193000
DTSTAMP:20260425T182548
CREATED:20251214T222435Z
LAST-MODIFIED:20251214T222435Z
UID:24293-1769625000-1769628600@firstbaptistbrentwood.com
SUMMARY:Bible Study with Pastor Ken Lawrence
DESCRIPTION:
URL:https://firstbaptistbrentwood.com/event/bible-study-with-pastor-ken-lawrence-4/
END:VEVENT
BEGIN:VEVENT
DTSTART;TZID=America/New_York:20260201T180000
DTEND;TZID=America/New_York:20260201T190000
DTSTAMP:20260425T182548
CREATED:20260119T194658Z
LAST-MODIFIED:20260119T194802Z
UID:24315-1769968800-1769972400@firstbaptistbrentwood.com
SUMMARY:A.A. Group Meeting
DESCRIPTION:
URL:https://firstbaptistbrentwood.com/event/a-a-group-meeting-6-pm/
END:VEVENT
BEGIN:VEVENT
DTSTART;TZID=America/New_York:20260202T190000
DTEND;TZID=America/New_York:20260202T200000
DTSTAMP:20260425T182548
CREATED:20260119T195039Z
LAST-MODIFIED:20260119T195039Z
UID:24320-1770058800-1770062400@firstbaptistbrentwood.com
SUMMARY:A.C.A. Group Meeting
DESCRIPTION:
URL:https://firstbaptistbrentwood.com/event/a-c-a-group-meeting-7/
END:VEVENT
BEGIN:VEVENT
DTSTART;TZID=America/New_York:20260204T100000
DTEND;TZID=America/New_York:20260204T120000
DTSTAMP:20260425T182548
CREATED:20260119T195252Z
LAST-MODIFIED:20260119T200856Z
UID:24322-1770199200-1770206400@firstbaptistbrentwood.com
SUMMARY:Bible Study with Kim Mather
DESCRIPTION:offsite
URL:https://firstbaptistbrentwood.com/event/bible-study-with-kim-mather-8/
END:VEVENT
BEGIN:VEVENT
DTSTART;TZID=America/New_York:20260204T183000
DTEND;TZID=America/New_York:20260204T193000
DTSTAMP:20260425T182548
CREATED:20260119T200958Z
LAST-MODIFIED:20260119T200958Z
UID:24339-1770229800-1770233400@firstbaptistbrentwood.com
SUMMARY:Bible Study with Pastor Ken Lawrence
DESCRIPTION:
URL:https://firstbaptistbrentwood.com/event/bible-study-with-pastor-ken-lawrence-7/
END:VEVENT
BEGIN:VEVENT
DTSTART;TZID=America/New_York:20260205T090000
DTEND;TZID=America/New_York:20260205T100000
DTSTAMP:20260425T182548
CREATED:20260119T195916Z
LAST-MODIFIED:20260119T195916Z
UID:24328-1770282000-1770285600@firstbaptistbrentwood.com
SUMMARY:Ladies Breakfast Group
DESCRIPTION:
URL:https://firstbaptistbrentwood.com/event/ladies-breakfast-group-2/
END:VEVENT
BEGIN:VEVENT
DTSTART;TZID=America/New_York:20260208T180000
DTEND;TZID=America/New_York:20260208T190000
DTSTAMP:20260425T182548
CREATED:20260119T200126Z
LAST-MODIFIED:20260119T200126Z
UID:24330-1770573600-1770577200@firstbaptistbrentwood.com
SUMMARY:A.A. group meeting
DESCRIPTION:
URL:https://firstbaptistbrentwood.com/event/a-a-group-meeting-8/
END:VEVENT
BEGIN:VEVENT
DTSTART;TZID=America/New_York:20260209T190000
DTEND;TZID=America/New_York:20260209T200000
DTSTAMP:20260425T182548
CREATED:20260119T200300Z
LAST-MODIFIED:20260119T200300Z
UID:24332-1770663600-1770667200@firstbaptistbrentwood.com
SUMMARY:A.C.A. Group Meeting
DESCRIPTION:
URL:https://firstbaptistbrentwood.com/event/a-c-a-group-meeting-8/
END:VEVENT
BEGIN:VEVENT
DTSTART;TZID=America/New_York:20260211T100000
DTEND;TZID=America/New_York:20260211T120000
DTSTAMP:20260425T182548
CREATED:20260119T200357Z
LAST-MODIFIED:20260119T200357Z
UID:24334-1770804000-1770811200@firstbaptistbrentwood.com
SUMMARY:Bible Study with Kim Mather
DESCRIPTION:
URL:https://firstbaptistbrentwood.com/event/bible-study-with-kim-mather-9/
END:VEVENT
BEGIN:VEVENT
DTSTART;TZID=America/New_York:20260211T183000
DTEND;TZID=America/New_York:20260211T193000
DTSTAMP:20260425T182548
CREATED:20260119T195624Z
LAST-MODIFIED:20260119T201102Z
UID:24326-1770834600-1770838200@firstbaptistbrentwood.com
SUMMARY:Bible Study with Pastor Ken Lawrence
DESCRIPTION:
URL:https://firstbaptistbrentwood.com/event/bible-study-with-pastor-ken-lawrence-5/
END:VEVENT
BEGIN:VEVENT
DTSTART;TZID=America/New_York:20260215T100000
DTEND;TZID=America/New_York:20260215T110000
DTSTAMP:20260425T182548
CREATED:20260127T151402Z
LAST-MODIFIED:20260221T192540Z
UID:24369-1771149600-1771153200@firstbaptistbrentwood.com
SUMMARY:Rev. Dr. Malcolm Hall preaching today
DESCRIPTION:
URL:https://firstbaptistbrentwood.com/event/rev-jay-knoll-abc-vnh-executive-minister-will-be-preaching-today/
END:VEVENT
END:VCALENDAR