BEGIN:VCALENDAR
VERSION:2.0
PRODID:-//First Baptist Church Brentwood - ECPv6.15.20//NONSGML v1.0//EN
CALSCALE:GREGORIAN
METHOD:PUBLISH
X-ORIGINAL-URL:https://firstbaptistbrentwood.com
X-WR-CALDESC:Events for First Baptist Church Brentwood
REFRESH-INTERVAL;VALUE=DURATION:PT1H
X-Robots-Tag:noindex
X-PUBLISHED-TTL:PT1H
BEGIN:VTIMEZONE
TZID:America/New_York
BEGIN:DAYLIGHT
TZOFFSETFROM:-0500
TZOFFSETTO:-0400
TZNAME:EDT
DTSTART:20250309T070000
END:DAYLIGHT
BEGIN:STANDARD
TZOFFSETFROM:-0400
TZOFFSETTO:-0500
TZNAME:EST
DTSTART:20251102T060000
END:STANDARD
BEGIN:DAYLIGHT
TZOFFSETFROM:-0500
TZOFFSETTO:-0400
TZNAME:EDT
DTSTART:20260308T070000
END:DAYLIGHT
BEGIN:STANDARD
TZOFFSETFROM:-0400
TZOFFSETTO:-0500
TZNAME:EST
DTSTART:20261101T060000
END:STANDARD
BEGIN:DAYLIGHT
TZOFFSETFROM:-0500
TZOFFSETTO:-0400
TZNAME:EDT
DTSTART:20270314T070000
END:DAYLIGHT
BEGIN:STANDARD
TZOFFSETFROM:-0400
TZOFFSETTO:-0500
TZNAME:EST
DTSTART:20271107T060000
END:STANDARD
END:VTIMEZONE
BEGIN:VEVENT
DTSTART;TZID=America/New_York:20260304T100000
DTEND;TZID=America/New_York:20260304T140000
DTSTAMP:20260425T113125
CREATED:20260221T185835Z
LAST-MODIFIED:20260221T185835Z
UID:24409-1772618400-1772632800@firstbaptistbrentwood.com
SUMMARY:Bible Study with Kim Mather
DESCRIPTION:
URL:https://firstbaptistbrentwood.com/event/bible-study-with-kim-mather-12/
END:VEVENT
BEGIN:VEVENT
DTSTART;TZID=America/New_York:20260304T143000
DTEND;TZID=America/New_York:20260304T153000
DTSTAMP:20260425T113125
CREATED:20260221T190134Z
LAST-MODIFIED:20260221T190134Z
UID:24417-1772634600-1772638200@firstbaptistbrentwood.com
SUMMARY:Steering Committee
DESCRIPTION:
URL:https://firstbaptistbrentwood.com/event/steering-committee/
END:VEVENT
BEGIN:VEVENT
DTSTART;TZID=America/New_York:20260304T183000
DTEND;TZID=America/New_York:20260304T193000
DTSTAMP:20260425T113125
CREATED:20260221T190639Z
LAST-MODIFIED:20260221T190639Z
UID:24429-1772649000-1772652600@firstbaptistbrentwood.com
SUMMARY:Bible Study with Pastor Ken Lawrence
DESCRIPTION:
URL:https://firstbaptistbrentwood.com/event/bible-study-with-pastor-ken-lawrence-9/
END:VEVENT
END:VCALENDAR