BEGIN:VCALENDAR
VERSION:2.0
PRODID:-//First Baptist Church Brentwood - ECPv6.15.20//NONSGML v1.0//EN
CALSCALE:GREGORIAN
METHOD:PUBLISH
X-WR-CALNAME:First Baptist Church Brentwood
X-ORIGINAL-URL:https://firstbaptistbrentwood.com
X-WR-CALDESC:Events for First Baptist Church Brentwood
REFRESH-INTERVAL;VALUE=DURATION:PT1H
X-Robots-Tag:noindex
X-PUBLISHED-TTL:PT1H
BEGIN:VTIMEZONE
TZID:America/New_York
BEGIN:DAYLIGHT
TZOFFSETFROM:-0500
TZOFFSETTO:-0400
TZNAME:EDT
DTSTART:20250309T070000
END:DAYLIGHT
BEGIN:STANDARD
TZOFFSETFROM:-0400
TZOFFSETTO:-0500
TZNAME:EST
DTSTART:20251102T060000
END:STANDARD
BEGIN:DAYLIGHT
TZOFFSETFROM:-0500
TZOFFSETTO:-0400
TZNAME:EDT
DTSTART:20260308T070000
END:DAYLIGHT
BEGIN:STANDARD
TZOFFSETFROM:-0400
TZOFFSETTO:-0500
TZNAME:EST
DTSTART:20261101T060000
END:STANDARD
BEGIN:DAYLIGHT
TZOFFSETFROM:-0500
TZOFFSETTO:-0400
TZNAME:EDT
DTSTART:20270314T070000
END:DAYLIGHT
BEGIN:STANDARD
TZOFFSETFROM:-0400
TZOFFSETTO:-0500
TZNAME:EST
DTSTART:20271107T060000
END:STANDARD
END:VTIMEZONE
BEGIN:VEVENT
DTSTART;TZID=America/New_York:20260114T100000
DTEND;TZID=America/New_York:20260114T120000
DTSTAMP:20260425T150420
CREATED:20251214T221910Z
LAST-MODIFIED:20251214T221910Z
UID:24281-1768384800-1768392000@firstbaptistbrentwood.com
SUMMARY:Bible Study with Kim Mather
DESCRIPTION:
URL:https://firstbaptistbrentwood.com/event/bible-study-with-kim-mather-5/
END:VEVENT
BEGIN:VEVENT
DTSTART;TZID=America/New_York:20260114T183000
DTEND;TZID=America/New_York:20260114T193000
DTSTAMP:20260425T150420
CREATED:20251214T222251Z
LAST-MODIFIED:20251214T222251Z
UID:24289-1768415400-1768419000@firstbaptistbrentwood.com
SUMMARY:Bible Study with Pastor Ken Lawrence
DESCRIPTION:
URL:https://firstbaptistbrentwood.com/event/bible-study-with-pastor-ken-lawrence-2/
END:VEVENT
END:VCALENDAR